BEGIN:VCALENDAR
VERSION:2.0
PRODID:-//wp-events-plugin.com//7.2.3.1//EN
BEGIN:VEVENT
UID:1562@gatewaycfderry.org
DTSTART;TZID=Europe/London:20191123T193000
DTEND;TZID=Europe/London:20191123T193000
DTSTAMP:20191103T204340Z
URL:https://www.gatewaycfderry.org/events/youth-event-quiz-night/
SUMMARY:Youth Event - Quiz Night - Stranorlar RPC - 23 Nov 19 19:30
DESCRIPTION:
LOCATION:Stranorlar RPC\, Main Street\, Stranorlar\, Donegal\, United Kingd
 om
X-APPLE-STRUCTURED-LOCATION;VALUE=URI;X-ADDRESS=Main Street\, Stranorlar\, 
 Donegal\, United Kingdom;X-APPLE-RADIUS=100;X-TITLE=Stranorlar RPC:geo:0,0
END:VEVENT
BEGIN:VTIMEZONE
TZID:Europe/London
X-LIC-LOCATION:Europe/London
BEGIN:STANDARD
DTSTART:20191027T010000
TZOFFSETFROM:+0100
TZOFFSETTO:+0000
TZNAME:GMT
END:STANDARD
END:VTIMEZONE
END:VCALENDAR