BEGIN:VCALENDAR
VERSION:2.0
PRODID:-//wp-events-plugin.com//7.2.3.1//EN
BEGIN:VEVENT
UID:1391@gatewaycfderry.org
DTSTART;TZID=Europe/London;VALUE=DATE:20180414
DTEND;TZID=Europe/London;VALUE=DATE:20180415
DTSTAMP:20180405T182656Z
URL:https://www.gatewaycfderry.org/events/womens-fellowship-spring-confere
 nce/
SUMMARY:Womens Fellowship Spring Conference - Claire Reformed Presbyterian 
 Church - 14 Apr 18 00:00
DESCRIPTION:Speaker – Miss Anne Taylor
LOCATION:Claire Reformed Presbyterian Church\, 56 Cloghode Road\, Tandragee
 \, BT62 2HB\, United Kingdom
X-APPLE-STRUCTURED-LOCATION;VALUE=URI;X-ADDRESS=56 Cloghode Road\, Tandrage
 e\, BT62 2HB\, United Kingdom;X-APPLE-RADIUS=100;X-TITLE=Claire Reformed P
 resbyterian Church:geo:0,0
END:VEVENT
BEGIN:VTIMEZONE
TZID:Europe/London
X-LIC-LOCATION:Europe/London
BEGIN:DAYLIGHT
DTSTART:20180325T020000
TZOFFSETFROM:+0000
TZOFFSETTO:+0100
TZNAME:BST
END:DAYLIGHT
END:VTIMEZONE
END:VCALENDAR