BEGIN:VCALENDAR
VERSION:2.0
PRODID:-//wp-events-plugin.com//7.2.3.1//EN
BEGIN:VEVENT
UID:1405@gatewaycfderry.org
DTSTART;TZID=Europe/London:20180511T200000
DTEND;TZID=Europe/London:20180511T200000
DTSTAMP:20180429T201739Z
URL:https://www.gatewaycfderry.org/events/the-genevans-concert/
SUMMARY:The Genevans Concert - Guild Hall - 11 May 18 20:00
DESCRIPTION:
LOCATION:Guild Hall\, Guildhall Street\, Londonderry\, Londonderry\, BT486D
 Q\, United Kingdom
X-APPLE-STRUCTURED-LOCATION;VALUE=URI;X-ADDRESS=Guildhall Street\, Londonde
 rry\, Londonderry\, BT486DQ\, United Kingdom;X-APPLE-RADIUS=100;X-TITLE=Gu
 ild Hall:geo:0,0
END:VEVENT
BEGIN:VTIMEZONE
TZID:Europe/London
X-LIC-LOCATION:Europe/London
BEGIN:DAYLIGHT
DTSTART:20180325T020000
TZOFFSETFROM:+0000
TZOFFSETTO:+0100
TZNAME:BST
END:DAYLIGHT
END:VTIMEZONE
END:VCALENDAR