BEGIN:VCALENDAR
VERSION:2.0
PRODID:-//wp-events-plugin.com//7.2.3.1//EN
BEGIN:VEVENT
UID:1546@gatewaycfderry.org
DTSTART;TZID=Europe/London:20191118T103000
DTEND;TZID=Europe/London:20191118T150000
DTSTAMP:20191103T202659Z
URL:https://www.gatewaycfderry.org/events/synodical-day-of-prayer-2/
SUMMARY:Synodical Day of Prayer - Ballylane RPC - 18 Nov 19 10:30
DESCRIPTION:https://www.rpc.org/event/synodical-day-of-prayer-2/
LOCATION:Ballylane RPC\, Ballylane RPC\, Armagh\, BT60 2ED\, United Kingdom
X-APPLE-STRUCTURED-LOCATION;VALUE=URI;X-ADDRESS=Ballylane RPC\, Armagh\, BT
 60 2ED\, United Kingdom;X-APPLE-RADIUS=100;X-TITLE=Ballylane RPC:geo:0,0
END:VEVENT
BEGIN:VTIMEZONE
TZID:Europe/London
X-LIC-LOCATION:Europe/London
BEGIN:STANDARD
DTSTART:20191027T010000
TZOFFSETFROM:+0100
TZOFFSETTO:+0000
TZNAME:GMT
END:STANDARD
END:VTIMEZONE
END:VCALENDAR