BEGIN:VCALENDAR
VERSION:2.0
PRODID:-//wp-events-plugin.com//7.2.3.1//EN
BEGIN:VEVENT
UID:1839@gatewaycfderry.org
DTSTART;TZID=Europe/London:20210815T103000
DTEND;TZID=Europe/London:20210815T103000
DTSTAMP:20210812T181527Z
URL:https://www.gatewaycfderry.org/events/sunday-morning-service-2021-08-1
 5/
SUMMARY:Sunday morning service - Maldron Hotel Derry - 15 Aug 21 10:30
DESCRIPTION:The morning worship service is in the Maldron hotel at 10.45am.
LOCATION:Maldron Hotel Derry\, 17-19 Butcher Street\, Derry\, BT48 6HL\, Un
 ited Kingdom
GEO:54.995923;-7.322571
X-APPLE-STRUCTURED-LOCATION;VALUE=URI;X-ADDRESS=17-19 Butcher Street\, Derr
 y\, BT48 6HL\, United Kingdom;X-APPLE-RADIUS=100;X-TITLE=Maldron Hotel Der
 ry:geo:54.995923,-7.322571
END:VEVENT
BEGIN:VTIMEZONE
TZID:Europe/London
X-LIC-LOCATION:Europe/London
BEGIN:DAYLIGHT
DTSTART:20210328T020000
TZOFFSETFROM:+0000
TZOFFSETTO:+0100
TZNAME:BST
END:DAYLIGHT
END:VTIMEZONE
END:VCALENDAR