BEGIN:VCALENDAR
VERSION:2.0
PRODID:-//wp-events-plugin.com//7.2.3.1//EN
BEGIN:VEVENT
UID:1820@gatewaycfderry.org
DTSTART;TZID=Europe/London:20210404T183000
DTEND;TZID=Europe/London:20210404T183000
DTSTAMP:20210320T224512Z
URL:https://www.gatewaycfderry.org/events/sunday-morning-service-2021-04-0
 4/
SUMMARY:Sunday evening service -  - 4 Apr 21 18:30
DESCRIPTION:Services are streamed and can be viewed here:\n\nhttp://www.gat
 ewaycfderry.org/live/
END:VEVENT
BEGIN:VTIMEZONE
TZID:Europe/London
X-LIC-LOCATION:Europe/London
BEGIN:DAYLIGHT
DTSTART:20210328T020000
TZOFFSETFROM:+0000
TZOFFSETTO:+0100
TZNAME:BST
END:DAYLIGHT
END:VTIMEZONE
END:VCALENDAR