BEGIN:VCALENDAR
VERSION:2.0
PRODID:-//wp-events-plugin.com//7.2.3.1//EN
BEGIN:VEVENT
UID:1817@gatewaycfderry.org
DTSTART;TZID=Europe/London:20210314T183000
DTEND;TZID=Europe/London:20210314T183000
DTSTAMP:20210307T112021Z
URL:https://www.gatewaycfderry.org/events/sunday-morning-service-2021-03-1
 4/
SUMMARY:Sunday evening service -  - 14 Mar 21 18:30
DESCRIPTION:Services are recorded and will eventually appear in the sermons
  section:\n\nhttp://www.gatewaycfderry.org/sermons/
END:VEVENT
BEGIN:VTIMEZONE
TZID:Europe/London
X-LIC-LOCATION:Europe/London
BEGIN:STANDARD
DTSTART:20201025T010000
TZOFFSETFROM:+0100
TZOFFSETTO:+0000
TZNAME:GMT
END:STANDARD
END:VTIMEZONE
END:VCALENDAR