BEGIN:VCALENDAR
VERSION:2.0
PRODID:-//wp-events-plugin.com//7.2.3.1//EN
BEGIN:VEVENT
UID:1816@gatewaycfderry.org
DTSTART;TZID=Europe/London:20210307T183000
DTEND;TZID=Europe/London:20210307T183000
DTSTAMP:20210307T111741Z
URL:https://www.gatewaycfderry.org/events/sunday-morning-service-2021-03-0
 7/
SUMMARY:Sunday evening service - Bready Reformed Presbyterian Church - 7 Ma
 r 21 18:30
DESCRIPTION:
LOCATION:Bready Reformed Presbyterian Church\, 212 Victoria Road\, Bready\,
  BT82\, United Kingdom
X-APPLE-STRUCTURED-LOCATION;VALUE=URI;X-ADDRESS=212 Victoria Road\, Bready\
 , BT82\, United Kingdom;X-APPLE-RADIUS=100;X-TITLE=Bready Reformed Presbyt
 erian Church:geo:0,0
END:VEVENT
BEGIN:VTIMEZONE
TZID:Europe/London
X-LIC-LOCATION:Europe/London
BEGIN:STANDARD
DTSTART:20201025T010000
TZOFFSETFROM:+0100
TZOFFSETTO:+0000
TZNAME:GMT
END:STANDARD
END:VTIMEZONE
END:VCALENDAR