BEGIN:VCALENDAR
VERSION:2.0
PRODID:-//wp-events-plugin.com//7.2.3.1//EN
BEGIN:VEVENT
UID:1743@gatewaycfderry.org
DTSTART;TZID=Europe/London:20201122T183000
DTEND;TZID=Europe/London:20201122T183000
DTSTAMP:20201121T190905Z
URL:https://www.gatewaycfderry.org/events/sunday-morning-service-2020-11-2
 2/
SUMMARY:Fellowship service - Bready Reformed Presbyterian Church - 22 Nov 2
 0 18:30
DESCRIPTION:Our main worship service will move to 6.30pm\, joining our serv
 ice with Bready RPC. This meeting will be recorded but may not be availabl
 e on line until late evening.
LOCATION:Bready Reformed Presbyterian Church\, 212 Victoria Road\, Bready\,
  BT82\, United Kingdom
X-APPLE-STRUCTURED-LOCATION;VALUE=URI;X-ADDRESS=212 Victoria Road\, Bready\
 , BT82\, United Kingdom;X-APPLE-RADIUS=100;X-TITLE=Bready Reformed Presbyt
 erian Church:geo:0,0
END:VEVENT
BEGIN:VTIMEZONE
TZID:Europe/London
X-LIC-LOCATION:Europe/London
BEGIN:STANDARD
DTSTART:20201025T010000
TZOFFSETFROM:+0100
TZOFFSETTO:+0000
TZNAME:GMT
END:STANDARD
END:VTIMEZONE
END:VCALENDAR