BEGIN:VCALENDAR
VERSION:2.0
PRODID:-//wp-events-plugin.com//7.2.3.1//EN
BEGIN:VEVENT
UID:1709@gatewaycfderry.org
DTSTART:20200329T110000Z
DTEND:20200329T110000Z
DTSTAMP:20200328T111626Z
URL:https://www.gatewaycfderry.org/events/sunday-morning-service-2020-03-2
 9/
SUMMARY:Sunday morning service -  - 29 Mar 20 11:00
DESCRIPTION:Services are streamed and can be viewed here:\n\nhttp://www.gat
 ewaycfderry.org/live/
END:VEVENT
END:VCALENDAR