BEGIN:VCALENDAR
VERSION:2.0
PRODID:-//wp-events-plugin.com//7.2.3.1//EN
BEGIN:VEVENT
UID:1646@gatewaycfderry.org
DTSTART;TZID=Europe/London:20200322T110000
DTEND;TZID=Europe/London:20200322T110000
DTSTAMP:20200319T194225Z
URL:https://www.gatewaycfderry.org/events/sunday-morning-service-2020-03-2
 2/
SUMMARY:Sunday Morning Service -  - 22 Mar 20 11:00
DESCRIPTION:Livestream\nhttp://www.gatewaycfderry.org/live/
END:VEVENT
BEGIN:VTIMEZONE
TZID:Europe/London
X-LIC-LOCATION:Europe/London
BEGIN:STANDARD
DTSTART:20191027T010000
TZOFFSETFROM:+0100
TZOFFSETTO:+0000
TZNAME:GMT
END:STANDARD
END:VTIMEZONE
END:VCALENDAR