BEGIN:VCALENDAR
VERSION:2.0
PRODID:-//wp-events-plugin.com//7.2.3.1//EN
BEGIN:VEVENT
UID:1708@gatewaycfderry.org
DTSTART:20200322T100000Z
DTEND:20200322T100000Z
DTSTAMP:20200328T110839Z
URL:https://www.gatewaycfderry.org/events/sunday-morning-service-2020-03-2
 2-2/
SUMMARY:Sunday morning service -  - 22 Mar 20 11:00
DESCRIPTION:Services are streamed and can be viewed here:\n\nhttp://www.gat
 ewaycfderry.org/live/
END:VEVENT
END:VCALENDAR