BEGIN:VCALENDAR
VERSION:2.0
PRODID:-//wp-events-plugin.com//7.2.3.1//EN
BEGIN:VEVENT
UID:1178@gatewaycfderry.org
DTSTART;TZID=Europe/London:20171231T110000
DTEND;TZID=Europe/London:20171231T120000
DTSTAMP:20171203T203822Z
URL:https://www.gatewaycfderry.org/events/sunday-morning-2017-12-31/
SUMMARY:Sunday Morning Service - Maldron Hotel Derry - 31 Dec 17 11:00
DESCRIPTION:
LOCATION:Maldron Hotel Derry\, 17-19 Butcher Street\, Derry\, BT48 6HL\, Un
 ited Kingdom
GEO:54.995923;-7.322571
X-APPLE-STRUCTURED-LOCATION;VALUE=URI;X-ADDRESS=17-19 Butcher Street\, Derr
 y\, BT48 6HL\, United Kingdom;X-APPLE-RADIUS=100;X-TITLE=Maldron Hotel Der
 ry:geo:54.995923,-7.322571
END:VEVENT
BEGIN:VTIMEZONE
TZID:Europe/London
X-LIC-LOCATION:Europe/London
BEGIN:STANDARD
DTSTART:20171029T010000
TZOFFSETFROM:+0100
TZOFFSETTO:+0000
TZNAME:GMT
END:STANDARD
END:VTIMEZONE
END:VCALENDAR