BEGIN:VCALENDAR
VERSION:2.0
PRODID:-//wp-events-plugin.com//7.2.3.1//EN
BEGIN:VEVENT
UID:1540@gatewaycfderry.org
DTSTART;TZID=Europe/London:20190406T150000
DTEND;TZID=Europe/London:20190406T150000
DTSTAMP:20190331T182735Z
URL:https://www.gatewaycfderry.org/events/rp-womens-spring-conference/
SUMMARY:RP Women's Spring Conference - Ballyclare RPC - 6 Apr 19 15:00
DESCRIPTION:
LOCATION:Ballyclare RPC\, 15 Ballycorr Rd\, Ballyclare \, BT39 9DD\, United
  Kingdom
X-APPLE-STRUCTURED-LOCATION;VALUE=URI;X-ADDRESS=15 Ballycorr Rd\, Ballyclar
 e \, BT39 9DD\, United Kingdom;X-APPLE-RADIUS=100;X-TITLE=Ballyclare RPC:g
 eo:0,0
END:VEVENT
BEGIN:VTIMEZONE
TZID:Europe/London
X-LIC-LOCATION:Europe/London
BEGIN:DAYLIGHT
DTSTART:20190331T020000
TZOFFSETFROM:+0000
TZOFFSETTO:+0100
TZNAME:BST
END:DAYLIGHT
END:VTIMEZONE
END:VCALENDAR