BEGIN:VCALENDAR
VERSION:2.0
PRODID:-//wp-events-plugin.com//7.2.3.1//EN
BEGIN:VEVENT
UID:1542@gatewaycfderry.org
DTSTART;TZID=Europe/London:20190921T110000
DTEND;TZID=Europe/London:20190921T123000
DTSTAMP:20190918T205144Z
URL:https://www.gatewaycfderry.org/events/pro-life-rally/
SUMMARY:Pro Life Rally - Guild Hall - 21 Sep 19 11:00
DESCRIPTION:See details here.
LOCATION:Guild Hall\, Guildhall Street\, Londonderry\, Londonderry\, BT486D
 Q\, United Kingdom
X-APPLE-STRUCTURED-LOCATION;VALUE=URI;X-ADDRESS=Guildhall Street\, Londonde
 rry\, Londonderry\, BT486DQ\, United Kingdom;X-APPLE-RADIUS=100;X-TITLE=Gu
 ild Hall:geo:0,0
END:VEVENT
BEGIN:VTIMEZONE
TZID:Europe/London
X-LIC-LOCATION:Europe/London
BEGIN:DAYLIGHT
DTSTART:20190331T020000
TZOFFSETFROM:+0000
TZOFFSETTO:+0100
TZNAME:BST
END:DAYLIGHT
END:VTIMEZONE
END:VCALENDAR