BEGIN:VCALENDAR
VERSION:2.0
PRODID:-//wp-events-plugin.com//7.2.3.1//EN
BEGIN:VEVENT
UID:1522@gatewaycfderry.org
DTSTART;TZID=Europe/London:20190312T200000
DTEND;TZID=Europe/London:20190312T200000
DTSTAMP:20190310T202142Z
URL:https://www.gatewaycfderry.org/events/presbytery-finance-meeting/
SUMMARY:Presbytery Finance Meeting - Faughan Reformed Presbyterian Church -
  12 Mar 19 20:00
DESCRIPTION:
LOCATION:Faughan Reformed Presbyterian Church\, 4 Fincairn Road\, Drumahoe\
 , Londonderry\, BT47 3LB\, United Kingdom
X-APPLE-STRUCTURED-LOCATION;VALUE=URI;X-ADDRESS=4 Fincairn Road\, Drumahoe\
 , Londonderry\, BT47 3LB\, United Kingdom;X-APPLE-RADIUS=100;X-TITLE=Faugh
 an Reformed Presbyterian Church:geo:0,0
END:VEVENT
BEGIN:VTIMEZONE
TZID:Europe/London
X-LIC-LOCATION:Europe/London
BEGIN:STANDARD
DTSTART:20181028T010000
TZOFFSETFROM:+0100
TZOFFSETTO:+0000
TZNAME:GMT
END:STANDARD
END:VTIMEZONE
END:VCALENDAR