BEGIN:VCALENDAR
VERSION:2.0
PRODID:-//wp-events-plugin.com//7.2.3.1//EN
BEGIN:VEVENT
UID:1429@gatewaycfderry.org
DTSTART;TZID=Europe/London:20181007T113000
DTEND;TZID=Europe/London:20181007T113000
DTSTAMP:20180930T205619Z
URL:https://www.gatewaycfderry.org/events/practical-studies-in-philippians
 -4-2018-10-07/
SUMMARY:Practical Studies in Philippians 4 - Bready Reformed Presbyterian C
 hurch - 7 Oct 18 11:30
DESCRIPTION:Speaker - David Whitla\n\nFriday 7pm - Resolve Conflict! (Phil 
 4:1-5)\nSaturday 10.30am - Be Anxious for Nothing! (Phil 4:6-7)\nSaturday 
 7pm - Meditate on These Things! (Phil 4:8-9)\nSabbath 11.30am - Learn to b
 e Content! (Phil 4:11-13)\nSabbath 7.30pm - Share in Distress! (Phil 4:10\
 , 14-19)
LOCATION:Bready Reformed Presbyterian Church\, 212 Victoria Road\, Bready\,
  BT82\, United Kingdom
X-APPLE-STRUCTURED-LOCATION;VALUE=URI;X-ADDRESS=212 Victoria Road\, Bready\
 , BT82\, United Kingdom;X-APPLE-RADIUS=100;X-TITLE=Bready Reformed Presbyt
 erian Church:geo:0,0
END:VEVENT
BEGIN:VTIMEZONE
TZID:Europe/London
X-LIC-LOCATION:Europe/London
BEGIN:DAYLIGHT
DTSTART:20180325T020000
TZOFFSETFROM:+0000
TZOFFSETTO:+0100
TZNAME:BST
END:DAYLIGHT
END:VTIMEZONE
END:VCALENDAR