BEGIN:VCALENDAR
VERSION:2.0
PRODID:-//wp-events-plugin.com//7.2.3.1//EN
BEGIN:VEVENT
UID:1552@gatewaycfderry.org
DTSTART;TZID=Europe/London:20191113T200000
DTEND;TZID=Europe/London:20191113T200000
DTSTAMP:20191103T203131Z
URL:https://www.gatewaycfderry.org/events/mens-fellowship-2/
SUMMARY:Men's Fellowship -  - 13 Nov 19 20:00
DESCRIPTION:
END:VEVENT
BEGIN:VTIMEZONE
TZID:Europe/London
X-LIC-LOCATION:Europe/London
BEGIN:STANDARD
DTSTART:20191027T010000
TZOFFSETFROM:+0100
TZOFFSETTO:+0000
TZNAME:GMT
END:STANDARD
END:VTIMEZONE
END:VCALENDAR