BEGIN:VCALENDAR
VERSION:2.0
PRODID:-//wp-events-plugin.com//7.2.3.1//EN
BEGIN:VEVENT
UID:1348@gatewaycfderry.org
DTSTART;TZID=Europe/London:20180210T093000
DTEND;TZID=Europe/London:20180210T093000
DTSTAMP:20180204T200218Z
URL:https://www.gatewaycfderry.org/events/ladies-fellowship-breakfast/
SUMMARY:Ladies Fellowship Breakfast - Gwyn's Café - 10 Feb 18 09:30
DESCRIPTION:
LOCATION:Gwyn's Café\, Brooke Park\, Londonderry\, BT48 0HH\, United Kingd
 om
GEO:55.0034187;-7.333109199999967
X-APPLE-STRUCTURED-LOCATION;VALUE=URI;X-ADDRESS=Brooke Park\, Londonderry\,
  BT48 0HH\, United Kingdom;X-APPLE-RADIUS=100;X-TITLE=Gwyn's Café:geo:55.
 0034187,-7.333109199999967
END:VEVENT
BEGIN:VTIMEZONE
TZID:Europe/London
X-LIC-LOCATION:Europe/London
BEGIN:STANDARD
DTSTART:20171029T010000
TZOFFSETFROM:+0100
TZOFFSETTO:+0000
TZNAME:GMT
END:STANDARD
END:VTIMEZONE
END:VCALENDAR