BEGIN:VCALENDAR
VERSION:2.0
PRODID:-//wp-events-plugin.com//7.2.3.1//EN
BEGIN:VEVENT
UID:1538@gatewaycfderry.org
DTSTART;TZID=Europe/London:20190411T193000
DTEND;TZID=Europe/London:20190411T193000
DTSTAMP:20190331T182315Z
URL:https://www.gatewaycfderry.org/events/ladies-fellowship-4/
SUMMARY:Ladies Fellowship -  - 11 Apr 19 19:30
DESCRIPTION:
END:VEVENT
BEGIN:VTIMEZONE
TZID:Europe/London
X-LIC-LOCATION:Europe/London
BEGIN:DAYLIGHT
DTSTART:20190331T020000
TZOFFSETFROM:+0000
TZOFFSETTO:+0100
TZNAME:BST
END:DAYLIGHT
END:VTIMEZONE
END:VCALENDAR