BEGIN:VCALENDAR
VERSION:2.0
PRODID:-//wp-events-plugin.com//7.2.3.1//EN
BEGIN:VEVENT
UID:1703@gatewaycfderry.org
DTSTART;TZID=Europe/London:20200215T100000
DTEND;TZID=Europe/London:20200215T100000
DTSTAMP:20200202T195605Z
URL:https://www.gatewaycfderry.org/events/ladies-breakfast/
SUMMARY:Ladies Breakfast -  - 15 Feb 20 10:00
DESCRIPTION:
END:VEVENT
BEGIN:VTIMEZONE
TZID:Europe/London
X-LIC-LOCATION:Europe/London
BEGIN:STANDARD
DTSTART:20191027T010000
TZOFFSETFROM:+0100
TZOFFSETTO:+0000
TZNAME:GMT
END:STANDARD
END:VTIMEZONE
END:VCALENDAR