BEGIN:VCALENDAR
VERSION:2.0
PRODID:-//wp-events-plugin.com//7.2.3.1//EN
BEGIN:VEVENT
UID:1541@gatewaycfderry.org
DTSTART;TZID=Europe/London:20190501T200000
DTEND;TZID=Europe/London:20190501T200000
DTSTAMP:20190421T215556Z
URL:https://www.gatewaycfderry.org/events/heaven-does-it-exist/
SUMMARY:Heaven - does it exist? - Maldron Hotel Derry - 1 May 19 20:00
DESCRIPTION:http://www.gatewaycfderry.org/heaven-does-it-exist/
LOCATION:Maldron Hotel Derry\, 17-19 Butcher Street\, Derry\, BT48 6HL\, Un
 ited Kingdom
GEO:54.995923;-7.322571
X-APPLE-STRUCTURED-LOCATION;VALUE=URI;X-ADDRESS=17-19 Butcher Street\, Derr
 y\, BT48 6HL\, United Kingdom;X-APPLE-RADIUS=100;X-TITLE=Maldron Hotel Der
 ry:geo:54.995923,-7.322571
END:VEVENT
BEGIN:VTIMEZONE
TZID:Europe/London
X-LIC-LOCATION:Europe/London
BEGIN:DAYLIGHT
DTSTART:20190331T020000
TZOFFSETFROM:+0000
TZOFFSETTO:+0100
TZNAME:BST
END:DAYLIGHT
END:VTIMEZONE
END:VCALENDAR