BEGIN:VCALENDAR
VERSION:2.0
PRODID:-//wp-events-plugin.com//7.2.3.1//EN
BEGIN:VEVENT
UID:1561@gatewaycfderry.org
DTSTART;TZID=Europe/London:20191122T200000
DTEND;TZID=Europe/London:20191122T200000
DTSTAMP:20191103T203920Z
URL:https://www.gatewaycfderry.org/events/gods-word-on-todays-issues-3/
SUMMARY:God's Word on Today's Issues - Bready Reformed Presbyterian Church 
 - 22 Nov 19 20:00
DESCRIPTION:Transgenderism\nSpeaker: Rev Mark Loughridge
LOCATION:Bready Reformed Presbyterian Church\, 212 Victoria Road\, Bready\,
  BT82\, United Kingdom
X-APPLE-STRUCTURED-LOCATION;VALUE=URI;X-ADDRESS=212 Victoria Road\, Bready\
 , BT82\, United Kingdom;X-APPLE-RADIUS=100;X-TITLE=Bready Reformed Presbyt
 erian Church:geo:0,0
END:VEVENT
BEGIN:VTIMEZONE
TZID:Europe/London
X-LIC-LOCATION:Europe/London
BEGIN:STANDARD
DTSTART:20191027T010000
TZOFFSETFROM:+0100
TZOFFSETTO:+0000
TZNAME:GMT
END:STANDARD
END:VTIMEZONE
END:VCALENDAR