BEGIN:VCALENDAR
VERSION:2.0
PRODID:-//wp-events-plugin.com//7.2.3.1//EN
BEGIN:VEVENT
UID:1573@gatewaycfderry.org
DTSTART;TZID=Europe/London:20191207T193000
DTEND;TZID=Europe/London:20191207T193000
DTSTAMP:20191201T195830Z
URL:https://www.gatewaycfderry.org/events/fun-quiz/
SUMMARY:Fun Quiz - Faughan Reformed Presbyterian Church - 7 Dec 19 19:30
DESCRIPTION:Fun Quiz\nDonations to Hilda and Chris Orr for their work with 
 refugees.
LOCATION:Faughan Reformed Presbyterian Church\, 4 Fincairn Road\, Drumahoe\
 , Londonderry\, BT47 3LB\, United Kingdom
X-APPLE-STRUCTURED-LOCATION;VALUE=URI;X-ADDRESS=4 Fincairn Road\, Drumahoe\
 , Londonderry\, BT47 3LB\, United Kingdom;X-APPLE-RADIUS=100;X-TITLE=Faugh
 an Reformed Presbyterian Church:geo:0,0
END:VEVENT
BEGIN:VTIMEZONE
TZID:Europe/London
X-LIC-LOCATION:Europe/London
BEGIN:STANDARD
DTSTART:20191027T010000
TZOFFSETFROM:+0100
TZOFFSETTO:+0000
TZNAME:GMT
END:STANDARD
END:VTIMEZONE
END:VCALENDAR