BEGIN:VCALENDAR
VERSION:2.0
PRODID:-//wp-events-plugin.com//7.2.3.1//EN
BEGIN:VEVENT
UID:1574@gatewaycfderry.org
DTSTART;TZID=Europe/London:20191214T100000
DTEND;TZID=Europe/London:20191214T120000
DTSTAMP:20191201T200443Z
URL:https://www.gatewaycfderry.org/events/festive-morning/
SUMMARY:Festive Morning - Brooke Park Leisure Centre - 14 Dec 19 10:00
DESCRIPTION:The Festive Morning is for Children aged 4-8 and their parents 
 or grandparents. There will be crafts for the children to do\, and some ac
 tivities and a toy mat.\n\nThere will also be a powerpoint presentation fo
 r parents to watch and a storytime for the children based on the book "The
  Star Maker" which tells of Jesus birth.\n\nThe children will get a copy o
 f this book to take home. The adults will get a book called "The Gift".\n\
 nThere will be a bookstall and some festive refreshments provided.
LOCATION:Brooke Park Leisure Centre\, Rosemount Avenue\, Londonderry\, Lond
 onderry\, BT480HH\, United Kingdom
X-APPLE-STRUCTURED-LOCATION;VALUE=URI;X-ADDRESS=Rosemount Avenue\, Londonde
 rry\, Londonderry\, BT480HH\, United Kingdom;X-APPLE-RADIUS=100;X-TITLE=Br
 ooke Park Leisure Centre:geo:0,0
END:VEVENT
BEGIN:VTIMEZONE
TZID:Europe/London
X-LIC-LOCATION:Europe/London
BEGIN:STANDARD
DTSTART:20191027T010000
TZOFFSETFROM:+0100
TZOFFSETTO:+0000
TZNAME:GMT
END:STANDARD
END:VTIMEZONE
END:VCALENDAR