BEGIN:VCALENDAR
VERSION:2.0
PRODID:-//wp-events-plugin.com//7.2.3.1//EN
BEGIN:VEVENT
UID:1765@gatewaycfderry.org
DTSTART;TZID=Europe/London:20201115T183000
DTEND;TZID=Europe/London:20201115T183000
DTSTAMP:20201028T214626Z
URL:https://www.gatewaycfderry.org/events/fellowship-service-2020-11-15/
SUMMARY:Fellowship Service - Bready Reformed Presbyterian Church - 15 Nov 2
 0 18:30
DESCRIPTION:As we cannot meet in the Maldron Hotel due to Covid regulations
 \, for three weeks we will be reversing our usual practice and holding our
  zoom fellowship meeting at 11.00 am instead of 6.30pm. Our main worship s
 ervice will move to 6.30pm\, joining our service with Bready RPC. This mee
 ting will be recorded but may not be available on line until late evening.
 \n\nThis applies to Sundays 1st November\, 8th November and 15th November.
LOCATION:Bready Reformed Presbyterian Church\, 212 Victoria Road\, Bready\,
  BT82\, United Kingdom
X-APPLE-STRUCTURED-LOCATION;VALUE=URI;X-ADDRESS=212 Victoria Road\, Bready\
 , BT82\, United Kingdom;X-APPLE-RADIUS=100;X-TITLE=Bready Reformed Presbyt
 erian Church:geo:0,0
END:VEVENT
BEGIN:VTIMEZONE
TZID:Europe/London
X-LIC-LOCATION:Europe/London
BEGIN:STANDARD
DTSTART:20201025T010000
TZOFFSETFROM:+0100
TZOFFSETTO:+0000
TZNAME:GMT
END:STANDARD
END:VTIMEZONE
END:VCALENDAR