BEGIN:VCALENDAR
VERSION:2.0
PRODID:-//wp-events-plugin.com//7.2.3.1//EN
BEGIN:VEVENT
UID:1567@gatewaycfderry.org
DTSTART;TZID=Europe/London:20191222T183000
DTEND;TZID=Europe/London:20191222T183000
DTSTAMP:20191201T194929Z
URL:https://www.gatewaycfderry.org/events/fellowship-meeting-2019-12-22/
SUMMARY:Fellowship meeting - Neilly's Home - 22 Dec 19 18:30
DESCRIPTION:
LOCATION:Neilly's Home\, 16 Claremont Manse\, Londonderry\, BT487GA\, Unite
 d Kingdom
X-APPLE-STRUCTURED-LOCATION;VALUE=URI;X-ADDRESS=16 Claremont Manse\, London
 derry\, BT487GA\, United Kingdom;X-APPLE-RADIUS=100;X-TITLE=Neilly's Home:
 geo:0,0
END:VEVENT
BEGIN:VTIMEZONE
TZID:Europe/London
X-LIC-LOCATION:Europe/London
BEGIN:STANDARD
DTSTART:20191027T010000
TZOFFSETFROM:+0100
TZOFFSETTO:+0000
TZNAME:GMT
END:STANDARD
END:VTIMEZONE
END:VCALENDAR