BEGIN:VCALENDAR
VERSION:2.0
PRODID:-//wp-events-plugin.com//7.2.3.1//EN
BEGIN:VEVENT
UID:1544@gatewaycfderry.org
DTSTART;TZID=Europe/London:20191117T183000
DTEND;TZID=Europe/London:20191117T183000
DTSTAMP:20191103T201857Z
URL:https://www.gatewaycfderry.org/events/fellowship-meeting-2/
SUMMARY:Fellowship meeting -  - 17 Nov 19 18:30
DESCRIPTION:
END:VEVENT
BEGIN:VTIMEZONE
TZID:Europe/London
X-LIC-LOCATION:Europe/London
BEGIN:STANDARD
DTSTART:20191027T010000
TZOFFSETFROM:+0100
TZOFFSETTO:+0000
TZNAME:GMT
END:STANDARD
END:VTIMEZONE
END:VCALENDAR