BEGIN:VCALENDAR
VERSION:2.0
PRODID:-//wp-events-plugin.com//7.2.3.1//EN
BEGIN:VEVENT
UID:1371@gatewaycfderry.org
DTSTART;TZID=Europe/London:20180310T120000
DTEND;TZID=Europe/London:20180310T163000
DTSTAMP:20180304T201906Z
URL:https://www.gatewaycfderry.org/events/family-day-conference/
SUMMARY:Family day conference - Cullybackey Reformed Presbyterian Church - 
 10 Mar 18 12:00
DESCRIPTION:See more information here:\nhttp://www.rpc.org/event/family-con
 ference-2018/\n
LOCATION:Cullybackey Reformed Presbyterian Church\, Main St \, Cullybackey\
 , Antrim\, BT42 1BN\, United Kingdom
X-APPLE-STRUCTURED-LOCATION;VALUE=URI;X-ADDRESS=Main St \, Cullybackey\, An
 trim\, BT42 1BN\, United Kingdom;X-APPLE-RADIUS=100;X-TITLE=Cullybackey Re
 formed Presbyterian Church:geo:0,0
END:VEVENT
BEGIN:VTIMEZONE
TZID:Europe/London
X-LIC-LOCATION:Europe/London
BEGIN:STANDARD
DTSTART:20171029T010000
TZOFFSETFROM:+0100
TZOFFSETTO:+0000
TZNAME:GMT
END:STANDARD
END:VTIMEZONE
END:VCALENDAR