BEGIN:VCALENDAR
VERSION:2.0
PRODID:-//wp-events-plugin.com//7.2.3.1//EN
BEGIN:VEVENT
UID:1525@gatewaycfderry.org
DTSTART;TZID=Europe/London:20190309T120000
DTEND;TZID=Europe/London:20190309T163000
DTSTAMP:20190310T202511Z
URL:https://www.gatewaycfderry.org/events/family-day-conference-2/
SUMMARY:Family Day Conference - Cullybackey Reformed Presbyterian Church - 
 9 Mar 19 12:00
DESCRIPTION:More info here:\n\nhttps://www.rpc.org/event/rp-family-conferen
 ce/
LOCATION:Cullybackey Reformed Presbyterian Church\, Main St \, Cullybackey\
 , Antrim\, BT42 1BN\, United Kingdom
X-APPLE-STRUCTURED-LOCATION;VALUE=URI;X-ADDRESS=Main St \, Cullybackey\, An
 trim\, BT42 1BN\, United Kingdom;X-APPLE-RADIUS=100;X-TITLE=Cullybackey Re
 formed Presbyterian Church:geo:0,0
END:VEVENT
BEGIN:VTIMEZONE
TZID:Europe/London
X-LIC-LOCATION:Europe/London
BEGIN:STANDARD
DTSTART:20181028T010000
TZOFFSETFROM:+0100
TZOFFSETTO:+0000
TZNAME:GMT
END:STANDARD
END:VTIMEZONE
END:VCALENDAR