BEGIN:VCALENDAR
VERSION:2.0
PRODID:-//wp-events-plugin.com//7.2.3.1//EN
BEGIN:VEVENT
UID:1410@gatewaycfderry.org
DTSTART;TZID=Europe/London:20181014T183000
DTEND;TZID=Europe/London:20181014T183000
DTSTAMP:20180930T203928Z
URL:https://www.gatewaycfderry.org/events/evening-biblestudy-2018-10-14/
SUMMARY:Evening Biblestudy - Neilly's Home - 14 Oct 18 18:30
DESCRIPTION:
LOCATION:Neilly's Home\, 16 Claremont Manse\, Londonderry\, BT487GA\, Unite
 d Kingdom
X-APPLE-STRUCTURED-LOCATION;VALUE=URI;X-ADDRESS=16 Claremont Manse\, London
 derry\, BT487GA\, United Kingdom;X-APPLE-RADIUS=100;X-TITLE=Neilly's Home:
 geo:0,0
END:VEVENT
BEGIN:VTIMEZONE
TZID:Europe/London
X-LIC-LOCATION:Europe/London
BEGIN:DAYLIGHT
DTSTART:20180325T020000
TZOFFSETFROM:+0000
TZOFFSETTO:+0100
TZNAME:BST
END:DAYLIGHT
END:VTIMEZONE
END:VCALENDAR