BEGIN:VCALENDAR
VERSION:2.0
PRODID:-//wp-events-plugin.com//7.2.3.1//EN
BEGIN:VEVENT
UID:1529@gatewaycfderry.org
DTSTART;TZID=Europe/London:20190414T190000
DTEND;TZID=Europe/London:20190414T190000
DTSTAMP:20190331T181727Z
URL:https://www.gatewaycfderry.org/events/evening-bible-study-4-2019-04-14
 /
SUMMARY:CY Praise Service - Limavady RPC - 14 Apr 19 19:00
DESCRIPTION:
LOCATION:Limavady RPC\, 5 Greystone Road\, Drumrane\, Limavady\, BT49 0ND\,
  United Kingdom
X-APPLE-STRUCTURED-LOCATION;VALUE=URI;X-ADDRESS=5 Greystone Road\, Drumrane
 \, Limavady\, BT49 0ND\, United Kingdom;X-APPLE-RADIUS=100;X-TITLE=Limavad
 y RPC:geo:0,0
END:VEVENT
BEGIN:VTIMEZONE
TZID:Europe/London
X-LIC-LOCATION:Europe/London
BEGIN:DAYLIGHT
DTSTART:20190331T020000
TZOFFSETFROM:+0000
TZOFFSETTO:+0100
TZNAME:BST
END:DAYLIGHT
END:VTIMEZONE
END:VCALENDAR