BEGIN:VCALENDAR
VERSION:2.0
PRODID:-//wp-events-plugin.com//7.2.3.1//EN
BEGIN:VEVENT
UID:1528@gatewaycfderry.org
DTSTART;TZID=Europe/London:20190407T183000
DTEND;TZID=Europe/London:20190407T183000
DTSTAMP:20190331T181333Z
URL:https://www.gatewaycfderry.org/events/evening-bible-study-4-2019-04-07
 /
SUMMARY:Evening Bible Study - Neilly's Home - 7 Apr 19 18:30
DESCRIPTION:
LOCATION:Neilly's Home\, 16 Claremont Manse\, Londonderry\, BT487GA\, Unite
 d Kingdom
X-APPLE-STRUCTURED-LOCATION;VALUE=URI;X-ADDRESS=16 Claremont Manse\, London
 derry\, BT487GA\, United Kingdom;X-APPLE-RADIUS=100;X-TITLE=Neilly's Home:
 geo:0,0
END:VEVENT
BEGIN:VTIMEZONE
TZID:Europe/London
X-LIC-LOCATION:Europe/London
BEGIN:DAYLIGHT
DTSTART:20190331T020000
TZOFFSETFROM:+0000
TZOFFSETTO:+0100
TZNAME:BST
END:DAYLIGHT
END:VTIMEZONE
END:VCALENDAR