BEGIN:VCALENDAR
VERSION:2.0
PRODID:-//wp-events-plugin.com//7.2.3.1//EN
BEGIN:VEVENT
UID:1397@gatewaycfderry.org
DTSTART;TZID=Europe/London:20180527T183000
DTEND;TZID=Europe/London:20180527T183000
DTSTAMP:20180429T200924Z
URL:https://www.gatewaycfderry.org/events/evening-bible-study-3-2018-05-27
 /
SUMMARY:Evening Bible Study - Fallow's Home - 27 May 18 18:30
DESCRIPTION:
LOCATION:Fallow's Home\, 162 Tamnaherin road\, Drumahoe\, BT47 3AN\, United
  Kingdom
GEO:54.96261699999999;-7.2267289999999775
X-APPLE-STRUCTURED-LOCATION;VALUE=URI;X-ADDRESS=162 Tamnaherin road\, Druma
 hoe\, BT47 3AN\, United Kingdom;X-APPLE-RADIUS=100;X-TITLE=Fallow's Home:g
 eo:54.96261699999999,-7.2267289999999775
END:VEVENT
BEGIN:VTIMEZONE
TZID:Europe/London
X-LIC-LOCATION:Europe/London
BEGIN:DAYLIGHT
DTSTART:20180325T020000
TZOFFSETFROM:+0000
TZOFFSETTO:+0100
TZNAME:BST
END:DAYLIGHT
END:VTIMEZONE
END:VCALENDAR