BEGIN:VCALENDAR
VERSION:2.0
PRODID:-//wp-events-plugin.com//7.2.3.1//EN
BEGIN:VEVENT
UID:1396@gatewaycfderry.org
DTSTART;TZID=Europe/London:20180520T183000
DTEND;TZID=Europe/London:20180520T183000
DTSTAMP:20180429T200756Z
URL:https://www.gatewaycfderry.org/events/evening-bible-study-3-2018-05-20
 /
SUMMARY:Praise Service - Bready Reformed Presbyterian Church - 20 May 18 18
 :30
DESCRIPTION:
LOCATION:Bready Reformed Presbyterian Church\, 212 Victoria Road\, Bready\,
  BT82\, United Kingdom
X-APPLE-STRUCTURED-LOCATION;VALUE=URI;X-ADDRESS=212 Victoria Road\, Bready\
 , BT82\, United Kingdom;X-APPLE-RADIUS=100;X-TITLE=Bready Reformed Presbyt
 erian Church:geo:0,0
END:VEVENT
BEGIN:VTIMEZONE
TZID:Europe/London
X-LIC-LOCATION:Europe/London
BEGIN:DAYLIGHT
DTSTART:20180325T020000
TZOFFSETFROM:+0000
TZOFFSETTO:+0100
TZNAME:BST
END:DAYLIGHT
END:VTIMEZONE
END:VCALENDAR