BEGIN:VCALENDAR
VERSION:2.0
PRODID:-//wp-events-plugin.com//7.2.3.1//EN
BEGIN:VEVENT
UID:1337@gatewaycfderry.org
DTSTART;TZID=Europe/London:20180211T183000
DTEND;TZID=Europe/London:20180211T183000
DTSTAMP:20180204T194434Z
URL:https://www.gatewaycfderry.org/events/evening-bible-study-2/
SUMMARY:Evening bible study - Fallow's Home - 11 Feb 18 18:30
DESCRIPTION:
LOCATION:Fallow's Home\, 162 Tamnaherin road\, Drumahoe\, BT47 3AN\, United
  Kingdom
GEO:54.96261699999999;-7.2267289999999775
X-APPLE-STRUCTURED-LOCATION;VALUE=URI;X-ADDRESS=162 Tamnaherin road\, Druma
 hoe\, BT47 3AN\, United Kingdom;X-APPLE-RADIUS=100;X-TITLE=Fallow's Home:g
 eo:54.96261699999999,-7.2267289999999775
END:VEVENT
BEGIN:VTIMEZONE
TZID:Europe/London
X-LIC-LOCATION:Europe/London
BEGIN:STANDARD
DTSTART:20171029T010000
TZOFFSETFROM:+0100
TZOFFSETTO:+0000
TZNAME:GMT
END:STANDARD
END:VTIMEZONE
END:VCALENDAR