BEGIN:VCALENDAR
VERSION:2.0
PRODID:-//wp-events-plugin.com//7.2.3.1//EN
BEGIN:VEVENT
UID:1279@gatewaycfderry.org
DTSTART;TZID=Europe/London:20171231T183000
DTEND;TZID=Europe/London:20171231T193000
DTSTAMP:20171203T213552Z
URL:https://www.gatewaycfderry.org/events/end-of-year-praise-service/
SUMMARY:End of year praise service - Faughan Reformed Presbyterian Church -
  31 Dec 17 18:30
DESCRIPTION:
LOCATION:Faughan Reformed Presbyterian Church\, 4 Fincairn Road\, Drumahoe\
 , Londonderry\, BT47 3LB\, United Kingdom
X-APPLE-STRUCTURED-LOCATION;VALUE=URI;X-ADDRESS=4 Fincairn Road\, Drumahoe\
 , Londonderry\, BT47 3LB\, United Kingdom;X-APPLE-RADIUS=100;X-TITLE=Faugh
 an Reformed Presbyterian Church:geo:0,0
END:VEVENT
BEGIN:VTIMEZONE
TZID:Europe/London
X-LIC-LOCATION:Europe/London
BEGIN:STANDARD
DTSTART:20171029T010000
TZOFFSETFROM:+0100
TZOFFSETTO:+0000
TZNAME:GMT
END:STANDARD
END:VTIMEZONE
END:VCALENDAR