BEGIN:VCALENDAR
VERSION:2.0
PRODID:-//wp-events-plugin.com//7.2.3.1//EN
BEGIN:VEVENT
UID:1698@gatewaycfderry.org
DTSTART;TZID=Europe/London:20200211T200000
DTEND;TZID=Europe/London:20200211T200000
DTSTAMP:20200202T194942Z
URL:https://www.gatewaycfderry.org/events/elders-prayer-meeting-2/
SUMMARY:Elder's Prayer meeting -  - 11 Feb 20 20:00
DESCRIPTION:
END:VEVENT
BEGIN:VTIMEZONE
TZID:Europe/London
X-LIC-LOCATION:Europe/London
BEGIN:STANDARD
DTSTART:20191027T010000
TZOFFSETFROM:+0100
TZOFFSETTO:+0000
TZNAME:GMT
END:STANDARD
END:VTIMEZONE
END:VCALENDAR