BEGIN:VCALENDAR
VERSION:2.0
PRODID:-//wp-events-plugin.com//7.2.3.1//EN
BEGIN:VEVENT
UID:1430@gatewaycfderry.org
DTSTART;TZID=Europe/London:20181004T200000
DTEND;TZID=Europe/London:20181004T200000
DTSTAMP:20180930T210019Z
URL:https://www.gatewaycfderry.org/events/death-and-then-what/
SUMMARY:Death - And Then What? - Faughan Reformed Presbyterian Church - 4 O
 ct 18 20:00
DESCRIPTION:Speaker - Rev Steven Robinson\nDo all Religions Lead to Heaven?
LOCATION:Faughan Reformed Presbyterian Church\, 4 Fincairn Road\, Drumahoe\
 , Londonderry\, BT47 3LB\, United Kingdom
X-APPLE-STRUCTURED-LOCATION;VALUE=URI;X-ADDRESS=4 Fincairn Road\, Drumahoe\
 , Londonderry\, BT47 3LB\, United Kingdom;X-APPLE-RADIUS=100;X-TITLE=Faugh
 an Reformed Presbyterian Church:geo:0,0
END:VEVENT
BEGIN:VTIMEZONE
TZID:Europe/London
X-LIC-LOCATION:Europe/London
BEGIN:DAYLIGHT
DTSTART:20180325T020000
TZOFFSETFROM:+0000
TZOFFSETTO:+0100
TZNAME:BST
END:DAYLIGHT
END:VTIMEZONE
END:VCALENDAR