BEGIN:VCALENDAR
VERSION:2.0
PRODID:-//wp-events-plugin.com//7.2.3.1//EN
BEGIN:VEVENT
UID:1374@gatewaycfderry.org
DTSTART;TZID=Europe/London:20180323T200000
DTEND;TZID=Europe/London:20180323T213000
DTSTAMP:20180304T202725Z
URL:https://www.gatewaycfderry.org/events/cy-spring-conference/
SUMMARY:CY Spring Conference - Trinity Reformed Presbyterian Church - 23 Ma
 r 18 20:00
DESCRIPTION:See more information at:\nhttp://www.rpc.org/event/cy-spring-co
 nference-trinity-r-p-church/
LOCATION:Trinity Reformed Presbyterian Church\, 560 Doagh Road\, Newtownabb
 ey\, BT36 5BU\, United Kingdom
GEO:54.6965467;-5.947115499999995
X-APPLE-STRUCTURED-LOCATION;VALUE=URI;X-ADDRESS=560 Doagh Road\, Newtownabb
 ey\, BT36 5BU\, United Kingdom;X-APPLE-RADIUS=100;X-TITLE=Trinity Reformed
  Presbyterian Church:geo:54.6965467,-5.947115499999995
END:VEVENT
BEGIN:VTIMEZONE
TZID:Europe/London
X-LIC-LOCATION:Europe/London
BEGIN:STANDARD
DTSTART:20171029T010000
TZOFFSETFROM:+0100
TZOFFSETTO:+0000
TZNAME:GMT
END:STANDARD
END:VTIMEZONE
END:VCALENDAR