BEGIN:VCALENDAR
VERSION:2.0
PRODID:-//wp-events-plugin.com//7.2.3.1//EN
BEGIN:VEVENT
UID:1572@gatewaycfderry.org
DTSTART;TZID=Europe/London:20191205T200000
DTEND;TZID=Europe/London:20191205T211500
DTSTAMP:20191201T195647Z
URL:https://www.gatewaycfderry.org/events/christian-institute-meeting/
SUMMARY:Christian Institute Meeting - Roe Park Hotel - 5 Dec 19 20:00
DESCRIPTION:The Impact of same-sex marriage and abortion on Northern Irelan
 d\nThursday 5th December\nLimavady - Roe Park Hotel
LOCATION:Roe Park Hotel\, 40 Drumrane-Road\, Limavady\, BT49 9LB\, United K
 ingdom
X-APPLE-STRUCTURED-LOCATION;VALUE=URI;X-ADDRESS=40 Drumrane-Road\, Limavady
 \, BT49 9LB\, United Kingdom;X-APPLE-RADIUS=100;X-TITLE=Roe Park Hotel:geo
 :0,0
END:VEVENT
BEGIN:VTIMEZONE
TZID:Europe/London
X-LIC-LOCATION:Europe/London
BEGIN:STANDARD
DTSTART:20191027T010000
TZOFFSETFROM:+0100
TZOFFSETTO:+0000
TZNAME:GMT
END:STANDARD
END:VTIMEZONE
END:VCALENDAR