BEGIN:VCALENDAR
VERSION:2.0
PRODID:-//wp-events-plugin.com//7.2.3.1//EN
BEGIN:VEVENT
UID:1407@gatewaycfderry.org
DTSTART;TZID=Europe/London:20180817T183000
DTEND;TZID=Europe/London:20180817T183000
DTSTAMP:20180805T200521Z
URL:https://www.gatewaycfderry.org/events/choosing-life-or-death/
SUMMARY:Choosing Life or Death? - The Cottage in the Craft Village - 17 Aug
  18 18:30
DESCRIPTION:Come and hear Mark Loughridge and Judith Tait on the subject of
  Abortion.\n\nFurther details HERE.
LOCATION:The Cottage in the Craft Village\, Shipquay St\, Londonderry\, Lon
 donderry\, BT48 6AR\, United Kingdom
GEO:54.9964547;-7.3209225000000515
X-APPLE-STRUCTURED-LOCATION;VALUE=URI;X-ADDRESS=Shipquay St\, Londonderry\,
  Londonderry\, BT48 6AR\, United Kingdom;X-APPLE-RADIUS=100;X-TITLE=The Co
 ttage in the Craft Village:geo:54.9964547,-7.3209225000000515
END:VEVENT
BEGIN:VTIMEZONE
TZID:Europe/London
X-LIC-LOCATION:Europe/London
BEGIN:DAYLIGHT
DTSTART:20180325T020000
TZOFFSETFROM:+0000
TZOFFSETTO:+0100
TZNAME:BST
END:DAYLIGHT
END:VTIMEZONE
END:VCALENDAR