BEGIN:VCALENDAR
VERSION:2.0
PRODID:-//wp-events-plugin.com//7.2.3.1//EN
BEGIN:VEVENT
UID:1571@gatewaycfderry.org
DTSTART;TZID=Europe/London:20191212T200000
DTEND;TZID=Europe/London:20191212T200000
DTSTAMP:20191201T195221Z
URL:https://www.gatewaycfderry.org/events/bible-study-13/
SUMMARY:Bible Study - Neilly's Home - 12 Dec 19 20:00
DESCRIPTION:
LOCATION:Neilly's Home\, 16 Claremont Manse\, Londonderry\, BT487GA\, Unite
 d Kingdom
X-APPLE-STRUCTURED-LOCATION;VALUE=URI;X-ADDRESS=16 Claremont Manse\, London
 derry\, BT487GA\, United Kingdom;X-APPLE-RADIUS=100;X-TITLE=Neilly's Home:
 geo:0,0
END:VEVENT
BEGIN:VTIMEZONE
TZID:Europe/London
X-LIC-LOCATION:Europe/London
BEGIN:STANDARD
DTSTART:20191027T010000
TZOFFSETFROM:+0100
TZOFFSETTO:+0000
TZNAME:GMT
END:STANDARD
END:VTIMEZONE
END:VCALENDAR