BEGIN:VCALENDAR
VERSION:2.0
PRODID:-//wp-events-plugin.com//7.2.3.1//EN
BEGIN:VEVENT
UID:1433@gatewaycfderry.org
DTSTART;TZID=Europe/London:20181009T193000
DTEND;TZID=Europe/London:20181009T193000
DTSTAMP:20180930T210258Z
URL:https://www.gatewaycfderry.org/events/autumn-mission-update-meeting/
SUMMARY:Autumn Mission Update Meeting - Bready Reformed Presbyterian Church
  - 9 Oct 18 19:30
DESCRIPTION:
LOCATION:Bready Reformed Presbyterian Church\, 212 Victoria Road\, Bready\,
  BT82\, United Kingdom
X-APPLE-STRUCTURED-LOCATION;VALUE=URI;X-ADDRESS=212 Victoria Road\, Bready\
 , BT82\, United Kingdom;X-APPLE-RADIUS=100;X-TITLE=Bready Reformed Presbyt
 erian Church:geo:0,0
END:VEVENT
BEGIN:VTIMEZONE
TZID:Europe/London
X-LIC-LOCATION:Europe/London
BEGIN:DAYLIGHT
DTSTART:20180325T020000
TZOFFSETFROM:+0000
TZOFFSETTO:+0100
TZNAME:BST
END:DAYLIGHT
END:VTIMEZONE
END:VCALENDAR