BEGIN:VCALENDAR
VERSION:2.0
PRODID:-//wp-events-plugin.com//7.2.3.1//EN
BEGIN:VEVENT
UID:1434@gatewaycfderry.org
DTSTART;TZID=Europe/London:20181116T200000
DTEND;TZID=Europe/London:20181116T200000
DTSTAMP:20181111T211917Z
URL:https://www.gatewaycfderry.org/events/augustine-and-amazing-grace/
SUMMARY:Augustine and Amazing grace - Maldron Hotel Derry - 16 Nov 18 20:00
DESCRIPTION:Please see more info via the link below\n\nhttp://www.gatewaycf
 derry.org/augustine-and-amazing-grace/
LOCATION:Maldron Hotel Derry\, 17-19 Butcher Street\, Derry\, BT48 6HL\, Un
 ited Kingdom
GEO:54.995923;-7.322571
X-APPLE-STRUCTURED-LOCATION;VALUE=URI;X-ADDRESS=17-19 Butcher Street\, Derr
 y\, BT48 6HL\, United Kingdom;X-APPLE-RADIUS=100;X-TITLE=Maldron Hotel Der
 ry:geo:54.995923,-7.322571
END:VEVENT
BEGIN:VTIMEZONE
TZID:Europe/London
X-LIC-LOCATION:Europe/London
BEGIN:STANDARD
DTSTART:20181028T010000
TZOFFSETFROM:+0100
TZOFFSETTO:+0000
TZNAME:GMT
END:STANDARD
END:VTIMEZONE
END:VCALENDAR