BEGIN:VCALENDAR
VERSION:2.0
PRODID:-//wp-events-plugin.com//7.2.3.1//EN
BEGIN:VEVENT
UID:1347@gatewaycfderry.org
DTSTART;TZID=Europe/London:20180223T190000
DTEND;TZID=Europe/London:20180223T190000
DTSTAMP:20180204T195854Z
URL:https://www.gatewaycfderry.org/events/annual-general-meeting/
SUMMARY:Annual General Meeting - Neilly's Home - 23 Feb 18 19:00
DESCRIPTION:
LOCATION:Neilly's Home\, 16 Claremont Manse\, Londonderry\, BT487GA\, Unite
 d Kingdom
X-APPLE-STRUCTURED-LOCATION;VALUE=URI;X-ADDRESS=16 Claremont Manse\, London
 derry\, BT487GA\, United Kingdom;X-APPLE-RADIUS=100;X-TITLE=Neilly's Home:
 geo:0,0
END:VEVENT
BEGIN:VTIMEZONE
TZID:Europe/London
X-LIC-LOCATION:Europe/London
BEGIN:STANDARD
DTSTART:20171029T010000
TZOFFSETFROM:+0100
TZOFFSETTO:+0000
TZNAME:GMT
END:STANDARD
END:VTIMEZONE
END:VCALENDAR